BEGIN:VCALENDAR
VERSION:2.0
PRODID:-//Center for Matter at Atomic Pressures - ECPv6.15.20//NONSGML v1.0//EN
CALSCALE:GREGORIAN
METHOD:PUBLISH
X-WR-CALNAME:Center for Matter at Atomic Pressures
X-ORIGINAL-URL:https://cmap.rochester.edu
X-WR-CALDESC:Events for Center for Matter at Atomic Pressures
REFRESH-INTERVAL;VALUE=DURATION:PT1H
X-Robots-Tag:noindex
X-PUBLISHED-TTL:PT1H
BEGIN:VTIMEZONE
TZID:America/New_York
BEGIN:DAYLIGHT
TZOFFSETFROM:-0500
TZOFFSETTO:-0400
TZNAME:EDT
DTSTART:20210314T070000
END:DAYLIGHT
BEGIN:STANDARD
TZOFFSETFROM:-0400
TZOFFSETTO:-0500
TZNAME:EST
DTSTART:20211107T060000
END:STANDARD
BEGIN:DAYLIGHT
TZOFFSETFROM:-0500
TZOFFSETTO:-0400
TZNAME:EDT
DTSTART:20220313T070000
END:DAYLIGHT
BEGIN:STANDARD
TZOFFSETFROM:-0400
TZOFFSETTO:-0500
TZNAME:EST
DTSTART:20221106T060000
END:STANDARD
BEGIN:DAYLIGHT
TZOFFSETFROM:-0500
TZOFFSETTO:-0400
TZNAME:EDT
DTSTART:20230312T070000
END:DAYLIGHT
BEGIN:STANDARD
TZOFFSETFROM:-0400
TZOFFSETTO:-0500
TZNAME:EST
DTSTART:20231105T060000
END:STANDARD
END:VTIMEZONE
BEGIN:VEVENT
DTSTART;TZID=America/New_York:20220225T160000
DTEND;TZID=America/New_York:20220225T170000
DTSTAMP:20260422T184654
CREATED:20220222T031609Z
LAST-MODIFIED:20220222T032421Z
UID:12396-1645804800-1645808400@cmap.rochester.edu
SUMMARY:Earth as a Model for Rocky Exoplanets
DESCRIPTION:The Center for Matter at Atomic Pressures (CMAP) Seminar Series will feature Dr. Wendy Panero of The Ohio State University. She will deliver a talk entitled “Earth as a Model for Rocky Exoplanets” followed by an interactive discussion with the attendees. Review the pre-read material at: https://bit.ly/cmap-seminar-panero.
URL:https://cmap.rochester.edu/events2/earth-as-a-model-for-rocky-exoplanets/
LOCATION:Virtual
CATEGORIES:Seminar
ATTACH;FMTTYPE=image/png:https://cmap.rochester.edu/wp-content/uploads/2021/12/Panero-Wendy.png
END:VEVENT
END:VCALENDAR